BEGIN:VCALENDAR
VERSION:2.0
PRODID:-//Comox Valley Nature - ECPv6.15.20//NONSGML v1.0//EN
CALSCALE:GREGORIAN
METHOD:PUBLISH
X-ORIGINAL-URL:https://comoxvalleynaturalist.bc.ca
X-WR-CALDESC:Events for Comox Valley Nature
REFRESH-INTERVAL;VALUE=DURATION:PT1H
X-Robots-Tag:noindex
X-PUBLISHED-TTL:PT1H
BEGIN:VTIMEZONE
TZID:America/Vancouver
BEGIN:DAYLIGHT
TZOFFSETFROM:-0800
TZOFFSETTO:-0700
TZNAME:PDT
DTSTART:20240310T100000
END:DAYLIGHT
BEGIN:STANDARD
TZOFFSETFROM:-0700
TZOFFSETTO:-0800
TZNAME:PST
DTSTART:20241103T090000
END:STANDARD
BEGIN:DAYLIGHT
TZOFFSETFROM:-0800
TZOFFSETTO:-0700
TZNAME:PDT
DTSTART:20250309T100000
END:DAYLIGHT
BEGIN:STANDARD
TZOFFSETFROM:-0700
TZOFFSETTO:-0800
TZNAME:PST
DTSTART:20251102T090000
END:STANDARD
BEGIN:DAYLIGHT
TZOFFSETFROM:-0800
TZOFFSETTO:-0700
TZNAME:PDT
DTSTART:20260308T100000
END:DAYLIGHT
BEGIN:STANDARD
TZOFFSETFROM:-0700
TZOFFSETTO:-0800
TZNAME:PST
DTSTART:20261101T090000
END:STANDARD
END:VTIMEZONE
BEGIN:VEVENT
DTSTART;TZID=America/Vancouver:20250415T100000
DTEND;TZID=America/Vancouver:20250415T140000
DTSTAMP:20260424T115656
CREATED:20250330T161538Z
LAST-MODIFIED:20250907T173723Z
UID:13878-1744711200-1744725600@comoxvalleynaturalist.bc.ca
SUMMARY:GEOLOGY WALK - for CVN Members and friends
DESCRIPTION:CVN Geologist Bob Hauser will lead this interesting walk talking about the glacial formation of the Comox Valley. \nMeeting at the bottom of the steps at Goose Spit and then travelling along the beach we will return to Goose Spit via Curtis Road covering uneven ground.   Lots of variety on this interesting walk! \nThis walk will be enjoyable for people with a good  level of fitness and an interest in geology!   Bring your lunch or drinks and dress for the weather! \nReserve your spot at events@cvnature.ca or add your name to the waitlist.
URL:https://comoxvalleynaturalist.bc.ca/event/geology-walk-for-cvn-members-and-friends/
LOCATION:Goose Spit\, Comox
CATEGORIES:Field Trips,Members Field Trips
ORGANIZER;CN="Comox Valley Nature":MAILTO:events@cvnature.ca
END:VEVENT
END:VCALENDAR